BEGIN:VCALENDAR
VERSION:2.0
PRODID:-//wp-events-plugin.com//7.2.3.1//EN
BEGIN:VEVENT
UID:7@saintandredecorcy.fr
DTSTART;TZID=Europe/Paris:20211016T083000
DTEND;TZID=Europe/Paris:20211016T123000
DTSTAMP:20211006T045006Z
URL:https://saintandredecorcy.fr/evenements/visite-du-fumet-des-dombes/
SUMMARY:Visite du Fumet des Dombes
DESCRIPTION:Entreprise artisanale créée en 1988 valorisant\, par le fumag
 e et par d'autres transformations culinaires\, les poissons en général e
 t la carpe des étangs de la Dombes en particulier.\nPass sanitaire obliga
 toire.\nVisites toutes les 15 minutes\nPort du masque obligatoire\nInscrip
 tion obligatoire.\nLieu : ZI Sure\, 93 Rue de l'Artisanat\, 01390 Saint-An
 dré-de-Corcy
END:VEVENT
BEGIN:VTIMEZONE
TZID:Europe/Paris
X-LIC-LOCATION:Europe/Paris
BEGIN:DAYLIGHT
DTSTART:20210328T030000
TZOFFSETFROM:+0100
TZOFFSETTO:+0200
TZNAME:CEST
END:DAYLIGHT
END:VTIMEZONE
END:VCALENDAR