BEGIN:VCALENDAR
VERSION:2.0
PRODID:-//wp-events-plugin.com//7.2.3.1//EN
BEGIN:VEVENT
UID:373@saintandredecorcy.fr
DTSTART;TZID=Europe/Paris:20240511T141500
DTEND;TZID=Europe/Paris:20240511T141500
DTSTAMP:20240411T051823Z
URL:https://saintandredecorcy.fr/evenements/theatre-contemporain-pourvu-qu
 il-pleuve/
SUMMARY:&#x1f3ad\; Théâtre contemporain : POURVU QU'IL PLEUVE
DESCRIPTION:De Sonia Ristic\, Par Les Baladins de Marly (marly-Le-Roy - 78)
 \nMise en scène : Laurent Cautru\n\nUn café de quartier\, une journée c
 omme les autres\, les gens se côtoient sans vraiment se parler\, se voir.
  Pourtant ils vont se trouver liés par l’irruption du monde extérieur.
  \nDes hommes et des femmes d’aujourd’hui\, humour et tendresse\n&#x23
 f1\;&#xfe0f\; 1h10&nbsp\; - A partir de 15 ans\n​Détails : https://www.
 theatrecontemporainendombes.com/prog-samedi-11\nTarifs et billetterie : ht
 tps://www.theatrecontemporainendombes.com/tarifs-et-reservations\n\n&nbsp\
 ;
ATTACH;FMTTYPE=image/jpeg:https://saintandredecorcy.fr/WordPress3/wp-conte
 nt/uploads/2024/04/Pourvu-qu-il-pleuve.webp
LOCATION:Atelier 208\, 167 All. des Sports\, Saint-André-de-Corcy\, Auverg
 ne-Rhône-Alpes\, 01390\, Ain\, France
GEO:45.92884;4.957222
X-APPLE-STRUCTURED-LOCATION;VALUE=URI;X-ADDRESS=167 All. des Sports\, Saint
 -André-de-Corcy\, Auvergne-Rhône-Alpes\, 01390\, Ain\, France;X-APPLE-RA
 DIUS=100;X-TITLE=Atelier 208:geo:45.92884,4.957222
END:VEVENT
BEGIN:VTIMEZONE
TZID:Europe/Paris
X-LIC-LOCATION:Europe/Paris
BEGIN:DAYLIGHT
DTSTART:20240331T030000
TZOFFSETFROM:+0100
TZOFFSETTO:+0200
TZNAME:CEST
END:DAYLIGHT
END:VTIMEZONE
END:VCALENDAR