BEGIN:VCALENDAR
VERSION:2.0
PRODID:-//wp-events-plugin.com//7.2.3.1//EN
BEGIN:VEVENT
UID:581@saintandredecorcy.fr
DTSTART;TZID=Europe/Paris:20250612T200000
DTEND;TZID=Europe/Paris:20250612T200000
DTSTAMP:20250527T094247Z
URL:https://saintandredecorcy.fr/evenements/table-ronde-la-maladie-dalzhei
 mer/
SUMMARY:⚕️ TABLE RONDE : "La maladie d’Alzheimer"
DESCRIPTION:Cette rencontre\, en présence de : médecin\, psychologue\, r
 éflexologue\, musicothérapeute\, bénévoles\, permettra à tous d'écha
 nger\, de partager des expériences\, de se documenter et de découvrir de
 s outils pratiques pour accompagner les malades et soutenir les aidants.
ATTACH;FMTTYPE=image/jpeg:https://saintandredecorcy.fr/WordPress3/wp-conte
 nt/uploads/2025/05/2025-TABLE-RONDE-TRAMOYES.jpg
LOCATION:https://osm.org/go/0AuFfuGpP?layers=N
END:VEVENT
BEGIN:VTIMEZONE
TZID:Europe/Paris
X-LIC-LOCATION:Europe/Paris
BEGIN:DAYLIGHT
DTSTART:20250330T030000
TZOFFSETFROM:+0100
TZOFFSETTO:+0200
TZNAME:CEST
END:DAYLIGHT
END:VTIMEZONE
END:VCALENDAR