BEGIN:VCALENDAR
VERSION:2.0
PRODID:-//wp-events-plugin.com//7.2.3.1//EN
BEGIN:VEVENT
UID:668@saintandredecorcy.fr
DTSTART;TZID=Europe/Paris:20260228T200000
DTEND;TZID=Europe/Paris:20260228T220000
DTSTAMP:20260223T152713Z
URL:https://saintandredecorcy.fr/evenements/soiree-decouverte-des-amphibie
 ns-2/
SUMMARY:🦎 Soirée découverte des amphibiens
DESCRIPTION:Venez en apprendre plus sur les amphibiens et comprendre pourqu
 oi ils traversent les routes à cette époque !\n\nDans le cadre de la fer
 meture bi-annuelle du Chemin de l'Hôpital pour protéger les salamandres\
 , crapauds\, grenouilles et tritons\, venez participer à une sortie le\ns
 amedi 28 février\nde 20h à 22h\n🐸 🦎 🐸\n\nPrévoir une torche ou
  frontale\, des vêtements chauds et imperméables ainsi que des bottes si
  vous avez.\nInscriptions obligatoires à l'adresse&nbsp\;espacenatureeten
 vironnement@gmail.com\n&nbsp\;
ATTACH;FMTTYPE=image/jpeg:https://saintandredecorcy.fr/WordPress3/wp-conte
 nt/uploads/2026/02/Amphibiens.jpg
LOCATION:https://osm.org/go/0AuRGJhOx-
END:VEVENT
BEGIN:VTIMEZONE
TZID:Europe/Paris
X-LIC-LOCATION:Europe/Paris
BEGIN:STANDARD
DTSTART:20251026T020000
TZOFFSETFROM:+0200
TZOFFSETTO:+0100
TZNAME:CET
END:STANDARD
END:VTIMEZONE
END:VCALENDAR