BEGIN:VCALENDAR
VERSION:2.0
PRODID:-//wp-events-plugin.com//7.2.3.1//EN
BEGIN:VEVENT
UID:645@saintandredecorcy.fr
DTSTART;TZID=Europe/Paris:20251122T103000
DTEND;TZID=Europe/Paris:20251122T121500
DTSTAMP:20251109T095118Z
URL:https://saintandredecorcy.fr/evenements/semaine-europeenne-de-la-reduc
 tion-des-dechets-2025-2/
SUMMARY:Semaine Européenne de la Réduction des Déchets 2025
DESCRIPTION:♻️ Petits gestes\, grands effets : venez découvrir comme
 nt réduire encore plus vos déchets !\n\nLes jeunes élus et la Municipal
 ité vous invitent à des animations autour de la réduction des déchets.
 \n\n📅 22 novembre à 10h30\n\n📍 au kiosque des Millières\n\nVenez
  en famille\, entre amis ou juste par curiosité!
ATTACH;FMTTYPE=image/jpeg:https://saintandredecorcy.fr/WordPress3/wp-conte
 nt/uploads/2025/11/SERD-2025-flyer-2-pdf.jpg
LOCATION:Kiosque des Millères\, 8 rue des Millières\, Saint-André-de-Cor
 cy\, Auvergne-Rhône-Alpes\, 01390\, Ain\, France
GEO:45.927442;4.956153
X-APPLE-STRUCTURED-LOCATION;VALUE=URI;X-ADDRESS=8 rue des Millières\, Sain
 t-André-de-Corcy\, Auvergne-Rhône-Alpes\, 01390\, Ain\, France;X-APPLE-R
 ADIUS=100;X-TITLE=Kiosque des Millères:geo:45.927442,4.956153
END:VEVENT
BEGIN:VTIMEZONE
TZID:Europe/Paris
X-LIC-LOCATION:Europe/Paris
BEGIN:STANDARD
DTSTART:20251026T020000
TZOFFSETFROM:+0200
TZOFFSETTO:+0100
TZNAME:CET
END:STANDARD
END:VTIMEZONE
END:VCALENDAR