BEGIN:VCALENDAR
VERSION:2.0
PRODID:-//wp-events-plugin.com//7.2.3.1//EN
BEGIN:VEVENT
UID:369@saintandredecorcy.fr
DTSTART;TZID=Europe/Paris:20240412T162000
DTEND;TZID=Europe/Paris:20240412T162000
DTSTAMP:20240405T071045Z
URL:https://saintandredecorcy.fr/evenements/rpe-gouter-des-vacances/
SUMMARY:&#x1f36a\; RPE : goûter des vacances
DESCRIPTION:Le Printemps est de retour\, les oiseaux chantent &#x1f99c\;\, 
 le soleil brille &#x2600\;&#xfe0f\; (quand il veut)\, les fleurs bourgeonn
 ent &#x1fabb\;.\nQui dit Printemps dit vacances de Printemps\, car oui ell
 e sont déjà là\, et elles n'arrivent pas seules.\nVenez partager notre 
 traditionnel\ngoûter des vacances\nsous la halle le\nVendredi 12 Avril\n
 à partir de 16h20\nEn vous attendant nombreux comme à chaque fois.\nVotr
 e équipe des RPE
ATTACH;FMTTYPE=image/jpeg:https://saintandredecorcy.fr/WordPress3/wp-conte
 nt/uploads/2024/04/Affiche-Gouter.jpg
LOCATION:Halle Pierre Bernard\, Place Pierre Bernard\, Saint-André-de-Corc
 y\, Auvergne-Rhône-Alpes\, 01390\, Ain\, France
GEO:45.92806;4.954247
X-APPLE-STRUCTURED-LOCATION;VALUE=URI;X-ADDRESS=Place Pierre Bernard\, Sain
 t-André-de-Corcy\, Auvergne-Rhône-Alpes\, 01390\, Ain\, France;X-APPLE-R
 ADIUS=100;X-TITLE=Halle Pierre Bernard:geo:45.92806,4.954247
END:VEVENT
BEGIN:VTIMEZONE
TZID:Europe/Paris
X-LIC-LOCATION:Europe/Paris
BEGIN:DAYLIGHT
DTSTART:20240331T030000
TZOFFSETFROM:+0100
TZOFFSETTO:+0200
TZNAME:CEST
END:DAYLIGHT
END:VTIMEZONE
END:VCALENDAR