BEGIN:VCALENDAR
VERSION:2.0
PRODID:-//wp-events-plugin.com//7.2.3.1//EN
BEGIN:VEVENT
UID:258@saintandredecorcy.fr
DTSTART;TZID=Europe/Paris:20230621T183000
DTEND;TZID=Europe/Paris:20230621T191500
DTSTAMP:20230606T134554Z
URL:https://saintandredecorcy.fr/evenements/reve-de-cirque-ca-va-etre-tout
 -blanc/
SUMMARY:&#x26f7\;&#xfe0f\; Rêve de Cirque : Ça va être tout blanc
DESCRIPTION:Dans le cadre de Rêve de Cirque\, la compagnie IMPROMPTU CIRCU
 S présente&nbsp\;Ça va être tout blanc\n\nType : duo de clowns skieursD
 urée : 45 min / Tout public\nPour faire face à la pénurie de neige et d
 e tire fesses de 2020\, 2athlètes ont fondé le Comité d’intervention 
 Monolympique.De cette initiative\, sont nés les Jeux Monolympiques d’hi
 ver : dela glisse à gogo en toutes saisons\, des jeux de mots rigolos\, d
 esépreuves éprouvantes\, des lignes d’arrivées innovantes\, un siteol
 ympique déplaçable à souhait et sans impact environnemental\,des victoi
 res autoproclamées et des arbitrages semi démocratiques.\n\n&nbsp\;\n\nP
 rogamme complet : Rêves de cirque
ATTACH;FMTTYPE=image/jpeg:https://saintandredecorcy.fr/WordPress3/wp-conte
 nt/uploads/2023/05/Ca-va-etre-tout-blanc.jpg
LOCATION:Salle Polyvalente\, 329 Allée des Sports\, Saint-André-de-Corcy\
 , Auvergne-Rhône-Alpes\, 01390\, Ain\, France
GEO:45.92811;4.958096
X-APPLE-STRUCTURED-LOCATION;VALUE=URI;X-ADDRESS=329 Allée des Sports\, Sai
 nt-André-de-Corcy\, Auvergne-Rhône-Alpes\, 01390\, Ain\, France;X-APPLE-
 RADIUS=100;X-TITLE=Salle Polyvalente:geo:45.92811,4.958096
END:VEVENT
BEGIN:VTIMEZONE
TZID:Europe/Paris
X-LIC-LOCATION:Europe/Paris
BEGIN:DAYLIGHT
DTSTART:20230326T030000
TZOFFSETFROM:+0100
TZOFFSETTO:+0200
TZNAME:CEST
END:DAYLIGHT
END:VTIMEZONE
END:VCALENDAR