BEGIN:VCALENDAR
VERSION:2.0
PRODID:-//wp-events-plugin.com//7.2.3.1//EN
BEGIN:VEVENT
UID:119@saintandredecorcy.fr
DTSTART;TZID=Europe/Paris:20220512T193000
DTEND;TZID=Europe/Paris:20220512T193000
DTSTAMP:20220429T062646Z
URL:https://saintandredecorcy.fr/evenements/reunion-classes-en-3/
SUMMARY:&#x1f3a9\; Réunion classes en 3
DESCRIPTION:Les classes en 3 se réuniront le\njeudi 12 mai 2022 à 19h30\n
 à la Maison des associations\n
LOCATION:Maison des associations\, 167 All. des Sports\, Saint-André-de-Co
 rcy\, Auvergne-Rhône-Alpes\, 01390\, Ain\, France
GEO:45.929041;4.957238
X-APPLE-STRUCTURED-LOCATION;VALUE=URI;X-ADDRESS=167 All. des Sports\, Saint
 -André-de-Corcy\, Auvergne-Rhône-Alpes\, 01390\, Ain\, France;X-APPLE-RA
 DIUS=100;X-TITLE=Maison des associations:geo:45.929041,4.957238
END:VEVENT
BEGIN:VTIMEZONE
TZID:Europe/Paris
X-LIC-LOCATION:Europe/Paris
BEGIN:DAYLIGHT
DTSTART:20220327T030000
TZOFFSETFROM:+0100
TZOFFSETTO:+0200
TZNAME:CEST
END:DAYLIGHT
END:VTIMEZONE
END:VCALENDAR