BEGIN:VCALENDAR
VERSION:2.0
PRODID:-//wp-events-plugin.com//7.2.3.1//EN
BEGIN:VEVENT
UID:70@saintandredecorcy.fr
DTSTART;TZID=Europe/Paris:20220304T090000
DTEND;TZID=Europe/Paris:20220304T113000
DTSTAMP:20220214T090624Z
URL:https://saintandredecorcy.fr/evenements/rencontre-du-conseiller-numeri
 que/
SUMMARY:Rencontre du conseiller numérique
DESCRIPTION:ECLAT organise un\ncafé numérique\,\nvendredi 4 mars\nde 9h 
 à 11h30\ndans ses locaux\nL'occasion de rencontrer le conseiller numériq
 ue qui sera présent une fois par semaine pour vous accompagner sur ces th
 ématiques :\n\n\n 	utiliser mon ordinateur\, ma tablette\, mon téléphon
 e au quotidien\,\n 	utiliser internet et sa messagerie\n 	comprendre le fo
 nctionnement des réseaux sociaux\n 	sécuriser ses achats et ses données
  en ligne\n 	effectuer des démarches administratives en ligne\n\n
LOCATION:Centre social ECLAT\, 290 All. des Sports\, Saint-André-de-Corcy\
 , Auvergne-Rhône-Alpes\, 01390\, Ain\, France
GEO:45.928248;4.958876
X-APPLE-STRUCTURED-LOCATION;VALUE=URI;X-ADDRESS=290 All. des Sports\, Saint
 -André-de-Corcy\, Auvergne-Rhône-Alpes\, 01390\, Ain\, France;X-APPLE-RA
 DIUS=100;X-TITLE=Centre social ECLAT:geo:45.928248,4.958876
END:VEVENT
BEGIN:VTIMEZONE
TZID:Europe/Paris
X-LIC-LOCATION:Europe/Paris
BEGIN:STANDARD
DTSTART:20211031T020000
TZOFFSETFROM:+0200
TZOFFSETTO:+0100
TZNAME:CET
END:STANDARD
END:VTIMEZONE
END:VCALENDAR