BEGIN:VCALENDAR
VERSION:2.0
PRODID:-//wp-events-plugin.com//7.2.3.1//EN
BEGIN:VEVENT
UID:632@saintandredecorcy.fr
DTSTART;TZID=Europe/Paris:20251115T080000
DTEND;TZID=Europe/Paris:20251115T130000
DTSTAMP:20251012T153618Z
URL:https://saintandredecorcy.fr/evenements/pompiers-vente-boudin-et-sauci
 sson-a-cuire/
SUMMARY:🚒 Pompiers : vente boudin et saucisson à cuire
DESCRIPTION:Pompiers : vente boudin et saucisson à cuire. Réservation jus
 qu'au 12/11/2025 au 0786357601 ou sur Facebook : Pompiers St André de Co
 rcy 
ATTACH;FMTTYPE=image/jpeg:https://saintandredecorcy.fr/WordPress3/wp-conte
 nt/uploads/2025/10/Pompiers-15-11-Boudin.jpg
LOCATION:Halle Pierre Bernard\, Place Pierre Bernard\, Saint-André-de-Corc
 y\, Auvergne-Rhône-Alpes\, 01390\, Ain\, France
GEO:45.92806;4.954247
X-APPLE-STRUCTURED-LOCATION;VALUE=URI;X-ADDRESS=Place Pierre Bernard\, Sain
 t-André-de-Corcy\, Auvergne-Rhône-Alpes\, 01390\, Ain\, France;X-APPLE-R
 ADIUS=100;X-TITLE=Halle Pierre Bernard:geo:45.92806,4.954247
END:VEVENT
BEGIN:VTIMEZONE
TZID:Europe/Paris
X-LIC-LOCATION:Europe/Paris
BEGIN:STANDARD
DTSTART:20251026T020000
TZOFFSETFROM:+0200
TZOFFSETTO:+0100
TZNAME:CET
END:STANDARD
END:VTIMEZONE
END:VCALENDAR