BEGIN:VCALENDAR
VERSION:2.0
PRODID:-//wp-events-plugin.com//7.2.3.1//EN
BEGIN:VEVENT
UID:635@saintandredecorcy.fr
DTSTART;TZID=Europe/Paris:20251121T090000
DTEND;TZID=Europe/Paris:20251121T173000
DTSTAMP:20251030T075739Z
URL:https://saintandredecorcy.fr/evenements/permanence-mutuelle-communale-
 6/
SUMMARY:⚕️ Permanence mutuelle communale
DESCRIPTION:Prenez rendez-vous au 06 16 24 92 28 pour étudier une adhésio
 n à la mutuelle communale Mutualp.
ATTACH;FMTTYPE=image/jpeg:https://saintandredecorcy.fr/WordPress3/wp-conte
 nt/uploads/2025/10/MUTUALP-permanence-Saint-Andre-de-Corcy-21-11-2025.jpg
LOCATION:Mairie\, Square Claudius Bardet\, Saint-André-de-Corcy\, Région 
 Rhône-Alpes\, 01390\, Ain\, France
GEO:45.92817;4.953139
X-APPLE-STRUCTURED-LOCATION;VALUE=URI;X-ADDRESS=Square Claudius Bardet\, Sa
 int-André-de-Corcy\, Région Rhône-Alpes\, 01390\, Ain\, France;X-APPLE-
 RADIUS=100;X-TITLE=Mairie:geo:45.92817,4.953139
END:VEVENT
BEGIN:VTIMEZONE
TZID:Europe/Paris
X-LIC-LOCATION:Europe/Paris
BEGIN:STANDARD
DTSTART:20251026T020000
TZOFFSETFROM:+0200
TZOFFSETTO:+0100
TZNAME:CET
END:STANDARD
END:VTIMEZONE
END:VCALENDAR