BEGIN:VCALENDAR
VERSION:2.0
PRODID:-//wp-events-plugin.com//7.2.3.1//EN
BEGIN:VEVENT
UID:614@saintandredecorcy.fr
DTSTART;TZID=Europe/Paris:20250917T000000
DTEND;TZID=Europe/Paris:20250917T000000
DTSTAMP:20250906T091648Z
URL:https://saintandredecorcy.fr/evenements/permanence-mutuelle-communale-
 5/
SUMMARY:📞 Permanence mutuelle communale
DESCRIPTION:
ATTACH;FMTTYPE=image/jpeg:https://saintandredecorcy.fr/WordPress3/wp-conte
 nt/uploads/2025/09/AFFICHE-A4-MUTUALP-permanence-Saint-Andre-de-Corcy-17-0
 9-2025_page-0001.jpg
LOCATION:Mairie\, Square Claudius Bardet\, Saint-André-de-Corcy\, Région 
 Rhône-Alpes\, 01390\, Ain\, France
GEO:45.92817;4.953139
X-APPLE-STRUCTURED-LOCATION;VALUE=URI;X-ADDRESS=Square Claudius Bardet\, Sa
 int-André-de-Corcy\, Région Rhône-Alpes\, 01390\, Ain\, France;X-APPLE-
 RADIUS=100;X-TITLE=Mairie:geo:45.92817,4.953139
END:VEVENT
BEGIN:VTIMEZONE
TZID:Europe/Paris
X-LIC-LOCATION:Europe/Paris
BEGIN:DAYLIGHT
DTSTART:20250330T030000
TZOFFSETFROM:+0100
TZOFFSETTO:+0200
TZNAME:CEST
END:DAYLIGHT
END:VTIMEZONE
END:VCALENDAR