BEGIN:VCALENDAR
VERSION:2.0
PRODID:-//wp-events-plugin.com//7.2.3.1//EN
BEGIN:VEVENT
UID:679@saintandredecorcy.fr
DTSTART;TZID=Europe/Paris:20260307T095000
DTEND;TZID=Europe/Paris:20260307T112000
DTSTAMP:20260219T135706Z
URL:https://saintandredecorcy.fr/evenements/passage-du-rallye-de-charbonni
 eres/
SUMMARY:🏎️ Passage du rallye de Charbonnières
DESCRIPTION:Le rallye de Charbonnières Classic\, randonnée pour voitures 
 d'époque\, traversera notre commune le\nsamedi 7 mars 2026\nentre 9h50 et
  11h20\nLa course arrivera par la route de Neuville et repartira par la ro
 ute de Meximieux via la place de la Croix Blanche et rue du Mont Blanc.\n\
 nInformations sur www.charbo-classic.fr
ATTACH;FMTTYPE=image/jpeg:https://saintandredecorcy.fr/WordPress3/wp-conte
 nt/uploads/2026/02/Affiche-Charnonnieres-2026.jpeg
LOCATION:https://panneau-pocket.s3.gra.perf.cloud.ovh.net/cache/sign_image/
 1103196979699715c1e6c223.22662025-1771509185.jpg/f3c8c567c13ccddbf3a8a38b4
 a05f6ed
END:VEVENT
BEGIN:VTIMEZONE
TZID:Europe/Paris
X-LIC-LOCATION:Europe/Paris
BEGIN:STANDARD
DTSTART:20251026T020000
TZOFFSETFROM:+0200
TZOFFSETTO:+0100
TZNAME:CET
END:STANDARD
END:VTIMEZONE
END:VCALENDAR