BEGIN:VCALENDAR
VERSION:2.0
PRODID:-//wp-events-plugin.com//7.2.3.1//EN
BEGIN:VEVENT
UID:365@saintandredecorcy.fr
DTSTART;TZID=Europe/Paris:20240331T163000
DTEND;TZID=Europe/Paris:20240331T163000
DTSTAMP:20240326T061237Z
URL:https://saintandredecorcy.fr/evenements/mionnay-la-tournee-des-illusio
 nnistes/
SUMMARY:&#x1f52e\; Mionnay : la tournée des illusionnistes
DESCRIPTION:Dimanche 31 mars - 16h30&nbsp\; - &nbsp\;Salle polyvalente&nbsp
 \; -&nbsp\; MIONNAY\n\nPlus d'infos sur latourneedesillusionnistes.fr
ATTACH;FMTTYPE=image/jpeg:https://saintandredecorcy.fr/WordPress3/wp-conte
 nt/uploads/2024/03/Dimanche-31-mars-2024-a-15h-Salle-polyvalente-a-Mionnay
 .webp
LOCATION:https://osm.org/go/0AuQSGLVX?layers=N
END:VEVENT
BEGIN:VTIMEZONE
TZID:Europe/Paris
X-LIC-LOCATION:Europe/Paris
BEGIN:DAYLIGHT
DTSTART:20240331T030000
TZOFFSETFROM:+0100
TZOFFSETTO:+0200
TZNAME:CEST
END:DAYLIGHT
END:VTIMEZONE
END:VCALENDAR