BEGIN:VCALENDAR
VERSION:2.0
PRODID:-//wp-events-plugin.com//7.2.3.1//EN
BEGIN:VEVENT
UID:640@saintandredecorcy.fr
DTSTART;TZID=Europe/Paris:20251119T140000
DTEND;TZID=Europe/Paris:20251119T173000
DTSTAMP:20251030T212446Z
URL:https://saintandredecorcy.fr/evenements/marche-de-noel-a-corcynelle/
SUMMARY:🎄 Marché de Noël à Corcy'nelle
DESCRIPTION:Mercredi 19 novembre\, de 14h00 à 17h30\, Marché de Noël au 
 sein de la résidence seniors Corcy'nelle au 100 rue de la Bergerie (à c
 ôté du pôle santé).
ATTACH;FMTTYPE=image/jpeg:https://saintandredecorcy.fr/WordPress3/wp-conte
 nt/uploads/2025/10/Marche-de-Noel-Corcynelle-2025.jpg
LOCATION:http://🎄
END:VEVENT
BEGIN:VTIMEZONE
TZID:Europe/Paris
X-LIC-LOCATION:Europe/Paris
BEGIN:STANDARD
DTSTART:20251026T020000
TZOFFSETFROM:+0200
TZOFFSETTO:+0100
TZNAME:CET
END:STANDARD
END:VTIMEZONE
END:VCALENDAR