BEGIN:VCALENDAR
VERSION:2.0
PRODID:-//wp-events-plugin.com//7.2.3.1//EN
BEGIN:VEVENT
UID:324@saintandredecorcy.fr
DTSTART;TZID=Europe/Paris:20231119T083000
DTEND;TZID=Europe/Paris:20231119T130000
DTSTAMP:20231114T045344Z
URL:https://saintandredecorcy.fr/evenements/marche-animation-kaki-aop/
SUMMARY:&#x1f34a\; Marché : animation Kaki AOP
DESCRIPTION:
ATTACH;FMTTYPE=image/jpeg:https://saintandredecorcy.fr/WordPress3/wp-conte
 nt/uploads/2023/11/CP-Animations-KAKI-AOP-Novembre-2023-s.jpg
LOCATION:Place Pierre Bernard\, Place Pierre Bernard\, Saint-André-de-Corc
 y\, Auvergne-Rhône-Alpes\, 01390\, Ain\, France
GEO:45.92784;4.953914
X-APPLE-STRUCTURED-LOCATION;VALUE=URI;X-ADDRESS=Place Pierre Bernard\, Sain
 t-André-de-Corcy\, Auvergne-Rhône-Alpes\, 01390\, Ain\, France;X-APPLE-R
 ADIUS=100;X-TITLE=Place Pierre Bernard:geo:45.92784,4.953914
END:VEVENT
BEGIN:VTIMEZONE
TZID:Europe/Paris
X-LIC-LOCATION:Europe/Paris
BEGIN:STANDARD
DTSTART:20231029T020000
TZOFFSETFROM:+0200
TZOFFSETTO:+0100
TZNAME:CET
END:STANDARD
END:VTIMEZONE
END:VCALENDAR