BEGIN:VCALENDAR
VERSION:2.0
PRODID:-//wp-events-plugin.com//7.2.3.1//EN
BEGIN:VEVENT
UID:436@saintandredecorcy.fr
DTSTART;TZID=Europe/Paris:20240919T193000
DTEND;TZID=Europe/Paris:20240919T193000
DTSTAMP:20240912T192559Z
URL:https://saintandredecorcy.fr/evenements/les-jeudis-de-la-sante-alzheim
 er-derniere-danse/
SUMMARY:🩺 Les jeudis de la santé : Alzheimer\, Dernière Danse
DESCRIPTION:Les Jeudis de la santé proposent\nDernière Danse\njeudi 19 se
 ptembre\n19h30 - Entrée 5 €\nCentre culturel - Salle Gérard MARÉ\nCh
 âtillon-sur-Chalaronne\nPORTER UN REGARD ET RÉFLÉCHIR SUR LA MALADIE D
 ’ALZHEIMER\nSPECTACLE\, DÉBAT D’EXPERTS\, TOUR DE TABLE
ATTACH;FMTTYPE=image/jpeg:https://saintandredecorcy.fr/WordPress3/wp-conte
 nt/uploads/2024/09/ASSPREDE-LES-JEUDIS-DE-LA-SANTE-19-09-2024.jpg
LOCATION:https://osm.org/go/0AvBN7xBi
END:VEVENT
BEGIN:VTIMEZONE
TZID:Europe/Paris
X-LIC-LOCATION:Europe/Paris
BEGIN:DAYLIGHT
DTSTART:20240331T030000
TZOFFSETFROM:+0100
TZOFFSETTO:+0200
TZNAME:CEST
END:DAYLIGHT
END:VTIMEZONE
END:VCALENDAR