BEGIN:VCALENDAR
VERSION:2.0
PRODID:-//wp-events-plugin.com//7.2.3.1//EN
BEGIN:VEVENT
UID:664@saintandredecorcy.fr
DTSTART;TZID=Europe/Paris:20260329T103000
DTEND;TZID=Europe/Paris:20260329T103000
DTSTAMP:20260129T083120Z
URL:https://saintandredecorcy.fr/evenements/le-gueulard-de-saco-plus-grand
 -brunch-de-la-dombes/
SUMMARY:🥖 Le Gueulard de SACO : plus grand brunch de la Dombes
DESCRIPTION:L'équipe du Gueulard de SACO renouvelle son évènement du\nPl
 us grand brunch de la Dombes\ndimanche 29 mars\nSalle polyvalente\nRéserv
 ation sur HelloAsso
ATTACH;FMTTYPE=image/jpeg:https://saintandredecorcy.fr/WordPress3/wp-conte
 nt/uploads/2026/01/BRUNCH-2026.jpg
LOCATION:Salle Polyvalente\, 329 Allée des Sports\, Saint-André-de-Corcy\
 , Auvergne-Rhône-Alpes\, 01390\, Ain\, France
GEO:45.92811;4.958096
X-APPLE-STRUCTURED-LOCATION;VALUE=URI;X-ADDRESS=329 Allée des Sports\, Sai
 nt-André-de-Corcy\, Auvergne-Rhône-Alpes\, 01390\, Ain\, France;X-APPLE-
 RADIUS=100;X-TITLE=Salle Polyvalente:geo:45.92811,4.958096
END:VEVENT
BEGIN:VTIMEZONE
TZID:Europe/Paris
X-LIC-LOCATION:Europe/Paris
BEGIN:DAYLIGHT
DTSTART:20260329T030000
TZOFFSETFROM:+0100
TZOFFSETTO:+0200
TZNAME:CEST
END:DAYLIGHT
END:VTIMEZONE
END:VCALENDAR