BEGIN:VCALENDAR
VERSION:2.0
PRODID:-//wp-events-plugin.com//7.2.3.1//EN
BEGIN:VEVENT
UID:684@saintandredecorcy.fr
DTSTART;TZID=Europe/Paris:20260307T190000
DTEND;TZID=Europe/Paris:20260307T230000
DTSTAMP:20260225T093832Z
URL:https://saintandredecorcy.fr/evenements/la-nuit-costellane-2026/
SUMMARY:🌃 La Nuit Costellane
DESCRIPTION:Scénographie lumineuse\, concerts à la bougie\, spectacles\, 
 Food truck\n\nLa Nuit Costellane est de retour !\n\n&nbsp\;\n\nSamedi 7 ma
 rs\n\nvivez une soirée magique au Domaine de la Saulsaie (MFR Montluel) p
 our la 3e édition de cet événement unique organisé par la 3CM et son o
 ffice de tourisme Le Costellan !\n\n🏛️ Partez à la découverte d'un 
 domaine de 350 ans d'histoire\, habituellement inaccessible au public\, su
 blimé par une mise en lumière artistique époustouflante.\n\nAu programm
 e de 19h à 23h :\n\n 	\n\n 	🕯️ Concerts à la bougie avec le Luster 
 Trio (représentations à 19h30 / 20h30 / 21h30 / 22h30)\n 	🐴 Spectacle
 s équestres lumineux « Féeries Nocturnes » (représentations à 20h / 
 21h / 22h)\n 	💡 Scénographie lumineuse sur les bâtiments &amp\; mappi
 ng inédit\n 	🎭 Récits contés &amp\; scènes théâtralisées tout au
  long de la soirée\n 	🍝 Food trucks &amp\; restauration sur place\n\n\
 n\nEntrée libre et gratuite\, sans inscription !\n\n📍 154 Allée de la
  Saulsaie\, 01120 Montluel ℹ️ Infos : 3cm.fr\n\n
ATTACH;FMTTYPE=image/jpeg:https://saintandredecorcy.fr/WordPress3/wp-conte
 nt/uploads/2026/02/Nuit_costellane.jpg
LOCATION:https://osm.org/go/0AuSQyVWc--
END:VEVENT
BEGIN:VTIMEZONE
TZID:Europe/Paris
X-LIC-LOCATION:Europe/Paris
BEGIN:STANDARD
DTSTART:20251026T020000
TZOFFSETFROM:+0200
TZOFFSETTO:+0100
TZNAME:CET
END:STANDARD
END:VTIMEZONE
END:VCALENDAR