BEGIN:VCALENDAR
VERSION:2.0
PRODID:-//wp-events-plugin.com//7.2.3.1//EN
BEGIN:VEVENT
UID:499@saintandredecorcy.fr
DTSTART;TZID=Europe/Paris:20250111T190000
DTEND;TZID=Europe/Paris:20250111T190000
DTSTAMP:20241213T084107Z
URL:https://saintandredecorcy.fr/evenements/la-folie-du-bc-dombes/
SUMMARY:La folie du BC Dombes
DESCRIPTION:Soirée dansante sur réservation avec repas (menu 18 €\, ou 
 12 €pour les moins de douze ans). DJ Vyktor NOVA\, DJ résident de Radio
  Scoop
ATTACH;FMTTYPE=image/jpeg:https://saintandredecorcy.fr/WordPress3/wp-conte
 nt/uploads/2024/12/Folie-BC-Dombes.jpg
LOCATION:Salle Polyvalente\, 329 Allée des Sports\, Saint-André-de-Corcy\
 , Auvergne-Rhône-Alpes\, 01390\, Ain\, France
GEO:45.92811;4.958096
X-APPLE-STRUCTURED-LOCATION;VALUE=URI;X-ADDRESS=329 Allée des Sports\, Sai
 nt-André-de-Corcy\, Auvergne-Rhône-Alpes\, 01390\, Ain\, France;X-APPLE-
 RADIUS=100;X-TITLE=Salle Polyvalente:geo:45.92811,4.958096
END:VEVENT
BEGIN:VTIMEZONE
TZID:Europe/Paris
X-LIC-LOCATION:Europe/Paris
BEGIN:STANDARD
DTSTART:20241027T020000
TZOFFSETFROM:+0200
TZOFFSETTO:+0100
TZNAME:CET
END:STANDARD
END:VTIMEZONE
END:VCALENDAR