BEGIN:VCALENDAR
VERSION:2.0
PRODID:-//wp-events-plugin.com//7.2.3.1//EN
BEGIN:VEVENT
UID:650@saintandredecorcy.fr
DTSTART;TZID=Europe/Paris:20251108T183000
DTEND;TZID=Europe/Paris:20251108T213000
DTSTAMP:20251129T094856Z
URL:https://saintandredecorcy.fr/evenements/illuminons-le-8-decembre/
SUMMARY:Illuminons le 8 décembre
DESCRIPTION:Venez fêter le 8 décembre 2025 : marche aux lanternes et coll
 ation offerte par la Municipalité.\n\nNous vous attendons nombreux!
ATTACH;FMTTYPE=image/jpeg:https://saintandredecorcy.fr/WordPress3/wp-conte
 nt/uploads/2025/11/dbc44fc8f8068510b096df5de5a7e7e0.jpeg
LOCATION:Salle Polyvalente\, 329 Allée des Sports\, Saint-André-de-Corcy\
 , Auvergne-Rhône-Alpes\, 01390\, Ain\, France
GEO:45.92811;4.958096
X-APPLE-STRUCTURED-LOCATION;VALUE=URI;X-ADDRESS=329 Allée des Sports\, Sai
 nt-André-de-Corcy\, Auvergne-Rhône-Alpes\, 01390\, Ain\, France;X-APPLE-
 RADIUS=100;X-TITLE=Salle Polyvalente:geo:45.92811,4.958096
END:VEVENT
BEGIN:VTIMEZONE
TZID:Europe/Paris
X-LIC-LOCATION:Europe/Paris
BEGIN:STANDARD
DTSTART:20251026T020000
TZOFFSETFROM:+0200
TZOFFSETTO:+0100
TZNAME:CET
END:STANDARD
END:VTIMEZONE
END:VCALENDAR