BEGIN:VCALENDAR
VERSION:2.0
PRODID:-//wp-events-plugin.com//7.2.3.1//EN
BEGIN:VEVENT
UID:579@saintandredecorcy.fr
DTSTART;TZID=Europe/Paris:20250629T080000
DTEND;TZID=Europe/Paris:20250629T130000
DTSTAMP:20250521T063950Z
URL:https://saintandredecorcy.fr/evenements/forum-des-artisans-industriels
 /
SUMMARY:💠 Forum des Artisans & Industriels
DESCRIPTION:
ATTACH;FMTTYPE=image/jpeg:https://saintandredecorcy.fr/WordPress3/wp-conte
 nt/uploads/2025/05/AFFICHE-FORUM-UCCAI-2025.jpg
LOCATION:Place Pierre Bernard\, Place Pierre Bernard\, Saint-André-de-Corc
 y\, Auvergne-Rhône-Alpes\, 01390\, Ain\, France
GEO:45.92784;4.953914
X-APPLE-STRUCTURED-LOCATION;VALUE=URI;X-ADDRESS=Place Pierre Bernard\, Sain
 t-André-de-Corcy\, Auvergne-Rhône-Alpes\, 01390\, Ain\, France;X-APPLE-R
 ADIUS=100;X-TITLE=Place Pierre Bernard:geo:45.92784,4.953914
END:VEVENT
BEGIN:VTIMEZONE
TZID:Europe/Paris
X-LIC-LOCATION:Europe/Paris
BEGIN:DAYLIGHT
DTSTART:20250330T030000
TZOFFSETFROM:+0100
TZOFFSETTO:+0200
TZNAME:CEST
END:DAYLIGHT
END:VTIMEZONE
END:VCALENDAR