BEGIN:VCALENDAR
VERSION:2.0
PRODID:-//wp-events-plugin.com//7.2.3.1//EN
BEGIN:VEVENT
UID:642@saintandredecorcy.fr
DTSTART;TZID=Europe/Paris:20251129T090000
DTEND;TZID=Europe/Paris:20251130T170000
DTSTAMP:20251104T071707Z
URL:https://saintandredecorcy.fr/evenements/foire-aux-skis-2025/
SUMMARY:🎿 Foire aux skis
DESCRIPTION:Foire aux skis 2025 : vente les 29 et 30 novembre de 9h à 17h 
 Non Stop\nDépôt du matériel vendredi 28 à partir de 18 h. Afin de réd
 uire le temps d'attente nous vous conseillons de pré-inscrire votre maté
 riel depuis ce site internet : http://foire.ski-standre.com
ATTACH;FMTTYPE=image/jpeg:https://saintandredecorcy.fr/WordPress3/wp-conte
 nt/uploads/2025/11/Foire-aux-skis-2025.jpg
LOCATION:Salle Polyvalente\, 329 Allée des Sports\, Saint-André-de-Corcy\
 , Auvergne-Rhône-Alpes\, 01390\, Ain\, France
GEO:45.92811;4.958096
X-APPLE-STRUCTURED-LOCATION;VALUE=URI;X-ADDRESS=329 Allée des Sports\, Sai
 nt-André-de-Corcy\, Auvergne-Rhône-Alpes\, 01390\, Ain\, France;X-APPLE-
 RADIUS=100;X-TITLE=Salle Polyvalente:geo:45.92811,4.958096
END:VEVENT
BEGIN:VTIMEZONE
TZID:Europe/Paris
X-LIC-LOCATION:Europe/Paris
BEGIN:STANDARD
DTSTART:20251026T020000
TZOFFSETFROM:+0200
TZOFFSETTO:+0100
TZNAME:CET
END:STANDARD
END:VTIMEZONE
END:VCALENDAR