BEGIN:VCALENDAR
VERSION:2.0
PRODID:-//wp-events-plugin.com//7.2.3.1//EN
BEGIN:VEVENT
UID:197@saintandredecorcy.fr
DTSTART;TZID=Europe/Paris:20221126T000000
DTEND;TZID=Europe/Paris:20221204T000000
DTSTAMP:20221204T092843Z
URL:https://saintandredecorcy.fr/evenements/festival-kintessens-organise-p
 ar-la-chocolaterie-richart/
SUMMARY:Festival KINTESSENS organisé par la chocolaterie RICHART
DESCRIPTION:
ATTACH;FMTTYPE=image/jpeg:https://saintandredecorcy.fr/WordPress3/wp-conte
 nt/uploads/2022/12/Richart.jpg
LOCATION:Atelier 208\, 167 All. des Sports\, Saint-André-de-Corcy\, Auverg
 ne-Rhône-Alpes\, 01390\, Ain\, France
GEO:45.92884;4.957222
X-APPLE-STRUCTURED-LOCATION;VALUE=URI;X-ADDRESS=167 All. des Sports\, Saint
 -André-de-Corcy\, Auvergne-Rhône-Alpes\, 01390\, Ain\, France;X-APPLE-RA
 DIUS=100;X-TITLE=Atelier 208:geo:45.92884,4.957222
END:VEVENT
BEGIN:VTIMEZONE
TZID:Europe/Paris
X-LIC-LOCATION:Europe/Paris
BEGIN:STANDARD
DTSTART:20221030T020000
TZOFFSETFROM:+0200
TZOFFSETTO:+0100
TZNAME:CET
END:STANDARD
END:VTIMEZONE
END:VCALENDAR