BEGIN:VCALENDAR
VERSION:2.0
PRODID:-//wp-events-plugin.com//7.2.3.1//EN
BEGIN:VEVENT
UID:108@saintandredecorcy.fr
DTSTART;TZID=Europe/Paris:20220427T100000
DTEND;TZID=Europe/Paris:20220427T120000
DTSTAMP:20220326T180501Z
URL:https://saintandredecorcy.fr/evenements/fabrication-de-mini-tablettes-
 gourmandes-2/
SUMMARY:FABRICATION DE MINI-TABLETTES GOURMANDES
DESCRIPTION:La chocolaterie organise un atelier enfants/parents samedi 23 a
 vril 2022 à 10h00 à la chocolaterie\n\n27 € par enfant
END:VEVENT
BEGIN:VTIMEZONE
TZID:Europe/Paris
X-LIC-LOCATION:Europe/Paris
BEGIN:DAYLIGHT
DTSTART:20220327T030000
TZOFFSETFROM:+0100
TZOFFSETTO:+0200
TZNAME:CEST
END:DAYLIGHT
END:VTIMEZONE
END:VCALENDAR