BEGIN:VCALENDAR
VERSION:2.0
PRODID:-//wp-events-plugin.com//7.2.3.1//EN
BEGIN:VEVENT
UID:541@saintandredecorcy.fr
DTSTART;TZID=Europe/Paris:20250315T100000
DTEND;TZID=Europe/Paris:20250316T170000
DTSTAMP:20250308T181931Z
URL:https://saintandredecorcy.fr/evenements/exposition-daquarelles-2025/
SUMMARY:🖌️ Exposition d'aquarelles
DESCRIPTION:Mme Jouve exposera ses aquarelles\nSamedi 15 mars\nDimanche 16 
 mars\nSalle Favrot\n10h00-12h00 - 14h00-17h00
ATTACH;FMTTYPE=image/jpeg:https://saintandredecorcy.fr/WordPress3/wp-conte
 nt/uploads/2025/03/Jouve-aquarelles.jpg
LOCATION:Espace Favrot\, 511 route de Neuville\, Saint-André-de-Corcy\, Au
 vergne-Rhône-Alpes\, 01390\, Ain\, France
GEO:45.923906;4.943392
X-APPLE-STRUCTURED-LOCATION;VALUE=URI;X-ADDRESS=511 route de Neuville\, Sai
 nt-André-de-Corcy\, Auvergne-Rhône-Alpes\, 01390\, Ain\, France;X-APPLE-
 RADIUS=100;X-TITLE=Espace Favrot:geo:45.923906,4.943392
END:VEVENT
BEGIN:VTIMEZONE
TZID:Europe/Paris
X-LIC-LOCATION:Europe/Paris
BEGIN:STANDARD
DTSTART:20241027T020000
TZOFFSETFROM:+0200
TZOFFSETTO:+0100
TZNAME:CET
END:STANDARD
END:VTIMEZONE
END:VCALENDAR