BEGIN:VCALENDAR
VERSION:2.0
PRODID:-//wp-events-plugin.com//7.2.3.1//EN
BEGIN:VEVENT
UID:112@saintandredecorcy.fr
DTSTART;TZID=Europe/Paris:20220413T150000
DTEND;TZID=Europe/Paris:20220413T150000
DTSTAMP:20220404T082542Z
URL:https://saintandredecorcy.fr/evenements/eclat-spectacle-terrier/
SUMMARY:ECLAT : spectacle "TERRIER"
DESCRIPTION:Le TNG et la Communauté de Communes de la Dombes vous propose 
 un SPECTACLE&nbsp\; : "TERRIER"\n\nÀ partir de 6 ans - Inscription: accue
 il@01eclat.fr\n\n
LOCATION:Atelier 208\, 167 All. des Sports\, Saint-André-de-Corcy\, Auverg
 ne-Rhône-Alpes\, 01390\, Ain\, France
GEO:45.92884;4.957222
X-APPLE-STRUCTURED-LOCATION;VALUE=URI;X-ADDRESS=167 All. des Sports\, Saint
 -André-de-Corcy\, Auvergne-Rhône-Alpes\, 01390\, Ain\, France;X-APPLE-RA
 DIUS=100;X-TITLE=Atelier 208:geo:45.92884,4.957222
END:VEVENT
BEGIN:VTIMEZONE
TZID:Europe/Paris
X-LIC-LOCATION:Europe/Paris
BEGIN:DAYLIGHT
DTSTART:20220327T030000
TZOFFSETFROM:+0100
TZOFFSETTO:+0200
TZNAME:CEST
END:DAYLIGHT
END:VTIMEZONE
END:VCALENDAR