BEGIN:VCALENDAR
VERSION:2.0
PRODID:-//wp-events-plugin.com//7.2.3.1//EN
BEGIN:VEVENT
UID:4@saintandredecorcy.fr
DTSTART:20211007T190000Z
DTEND:20211007T210000Z
DTSTAMP:20211006T043854Z
URL:https://saintandredecorcy.fr/evenements/conference-la-dombes-et-le-cli
 mat/
SUMMARY:Conférence « LA DOMBES ET LE CLIMAT »
DESCRIPTION:Conférence "LA DOMBES ET LE CLIMAT"\, dans le cadre de la sema
 ine du développement durable.\n\nDétails : DOMBES ET CLIMAT
LOCATION:Atelier 208\, 167 All. des Sports\, Saint-André-de-Corcy\, Auverg
 ne-Rhône-Alpes\, 01390\, Ain\, France
GEO:45.92884;4.957222
X-APPLE-STRUCTURED-LOCATION;VALUE=URI;X-ADDRESS=167 All. des Sports\, Saint
 -André-de-Corcy\, Auvergne-Rhône-Alpes\, 01390\, Ain\, France;X-APPLE-RA
 DIUS=100;X-TITLE=Atelier 208:geo:45.92884,4.957222
END:VEVENT
END:VCALENDAR