BEGIN:VCALENDAR
VERSION:2.0
PRODID:-//wp-events-plugin.com//7.2.3.1//EN
BEGIN:VEVENT
UID:234@saintandredecorcy.fr
DTSTART;TZID=Europe/Paris:20230522T200000
DTEND;TZID=Europe/Paris:20230522T200000
DTSTAMP:20230503T112134Z
URL:https://saintandredecorcy.fr/evenements/conference-ess/
SUMMARY:&#x1f501\; Conférence ESS
DESCRIPTION:Conférence débat dédiée à l’économie sociale et solidai
 re\n\nL’Économie sociale et solidaire (ESS) représente\, en France\, 1
 0 %du PIB\, 2\,3 millions de travailleurs en associations\, coopératives\
 ,etc. Témoignages locaux pour connaître\, comprendre\, prendre desinitia
 tives dans les domaines sociaux\, culturels\, productifs...Organisée par 
 le Conseil de Développement de la Dombes à l’Atelier 208 deSaint-Andr
 é-de-Corcy - Tout public - Gratuit\n\nProgramme complet du festival Demai
 n en Dombes : ici
ATTACH;FMTTYPE=image/jpeg:https://saintandredecorcy.fr/WordPress3/wp-conte
 nt/uploads/2023/04/Programme_demain_en_Dombes-s_Page_1.jpg
LOCATION:Atelier 208\, 167 All. des Sports\, Saint-André-de-Corcy\, Auverg
 ne-Rhône-Alpes\, 01390\, Ain\, France
GEO:45.92884;4.957222
X-APPLE-STRUCTURED-LOCATION;VALUE=URI;X-ADDRESS=167 All. des Sports\, Saint
 -André-de-Corcy\, Auvergne-Rhône-Alpes\, 01390\, Ain\, France;X-APPLE-RA
 DIUS=100;X-TITLE=Atelier 208:geo:45.92884,4.957222
END:VEVENT
BEGIN:VTIMEZONE
TZID:Europe/Paris
X-LIC-LOCATION:Europe/Paris
BEGIN:DAYLIGHT
DTSTART:20230326T030000
TZOFFSETFROM:+0100
TZOFFSETTO:+0200
TZNAME:CEST
END:DAYLIGHT
END:VTIMEZONE
END:VCALENDAR