BEGIN:VCALENDAR
VERSION:2.0
PRODID:-//wp-events-plugin.com//7.2.3.1//EN
BEGIN:VEVENT
UID:547@saintandredecorcy.fr
DTSTART;TZID=Europe/Paris:20250407T183000
DTEND;TZID=Europe/Paris:20250407T183000
DTSTAMP:20250325T113342Z
URL:https://saintandredecorcy.fr/evenements/conference-ecrans-et-jeunes-en
 fants/
SUMMARY:📱 Conférence : écrans et jeunes enfants
DESCRIPTION:Venez assister à une conférence sur l’impact des écrans su
 r le cerveau des tout-petits avec le Dr Anne-Lise Ducanda.
ATTACH;FMTTYPE=image/jpeg:https://saintandredecorcy.fr/WordPress3/wp-conte
 nt/uploads/2025/03/Conf-jeunes-enfants-s.jpg
LOCATION:https://osm.org/go/0As_WK2bt
END:VEVENT
BEGIN:VTIMEZONE
TZID:Europe/Paris
X-LIC-LOCATION:Europe/Paris
BEGIN:DAYLIGHT
DTSTART:20250330T030000
TZOFFSETFROM:+0100
TZOFFSETTO:+0200
TZNAME:CEST
END:DAYLIGHT
END:VTIMEZONE
END:VCALENDAR