BEGIN:VCALENDAR
VERSION:2.0
PRODID:-//wp-events-plugin.com//7.2.3.1//EN
BEGIN:VEVENT
UID:68@saintandredecorcy.fr
DTSTART;TZID=Europe/Paris:20220204T083000
DTEND;TZID=Europe/Paris:20220205T183000
DTSTAMP:20220203T065835Z
URL:https://saintandredecorcy.fr/evenements/collecte-alimentaire-du-secour
 s-catholique/
SUMMARY:Collecte alimentaire du Secours catholique
DESCRIPTION:Lieux de collecte :\n\n 	Carrefour Market\n 	Intermarché\n\n
END:VEVENT
BEGIN:VTIMEZONE
TZID:Europe/Paris
X-LIC-LOCATION:Europe/Paris
BEGIN:STANDARD
DTSTART:20211031T020000
TZOFFSETFROM:+0200
TZOFFSETTO:+0100
TZNAME:CET
END:STANDARD
END:VTIMEZONE
END:VCALENDAR