BEGIN:VCALENDAR
VERSION:2.0
PRODID:-//wp-events-plugin.com//7.2.3.1//EN
BEGIN:VEVENT
UID:633@saintandredecorcy.fr
DTSTART;TZID=Europe/Paris:20251025T080000
DTEND;TZID=Europe/Paris:20251025T170000
DTSTAMP:20251014T153324Z
URL:https://saintandredecorcy.fr/evenements/classe-en-6-vente-de-tartes/
SUMMARY:🥧 Classe en 6 : vente de tartes
DESCRIPTION:Les conscrits de la classe en 6 organisent une vente de tartes 
 cuites au feu de bois le&nbsp\;\nsamedi 25 octobre\nRéservation sur Hello
 Asso jusqu'au 22/10.\n\nVous pourrez retirez vos tartes le samedi 25/10 su
 r nos 3 stands :\n\n 	À la salle polyvalente\n 	À Carrefour\n 	À Interm
 arché\n\nC'est avec plaisir que nous vous servirons !
ATTACH;FMTTYPE=image/jpeg:https://saintandredecorcy.fr/WordPress3/wp-conte
 nt/uploads/2025/10/Classe-en-6.png
LOCATION:Salle Polyvalente\, 329 Allée des Sports\, Saint-André-de-Corcy\
 , Auvergne-Rhône-Alpes\, 01390\, Ain\, France
GEO:45.92811;4.958096
X-APPLE-STRUCTURED-LOCATION;VALUE=URI;X-ADDRESS=329 Allée des Sports\, Sai
 nt-André-de-Corcy\, Auvergne-Rhône-Alpes\, 01390\, Ain\, France;X-APPLE-
 RADIUS=100;X-TITLE=Salle Polyvalente:geo:45.92811,4.958096
END:VEVENT
BEGIN:VTIMEZONE
TZID:Europe/Paris
X-LIC-LOCATION:Europe/Paris
BEGIN:DAYLIGHT
DTSTART:20250330T030000
TZOFFSETFROM:+0100
TZOFFSETTO:+0200
TZNAME:CEST
END:DAYLIGHT
END:VTIMEZONE
END:VCALENDAR