BEGIN:VCALENDAR
VERSION:2.0
PRODID:-//wp-events-plugin.com//7.2.3.1//EN
BEGIN:VEVENT
UID:263@saintandredecorcy.fr
DTSTART;TZID=Europe/Paris:20230624T103000
DTEND;TZID=Europe/Paris:20230624T103000
DTSTAMP:20230606T052137Z
URL:https://saintandredecorcy.fr/evenements/bc-dombes-assemblee-generale/
SUMMARY:&#x1f3c0\; BC Dombes : assemblée générale
DESCRIPTION:
ATTACH;FMTTYPE=image/jpeg:https://saintandredecorcy.fr/WordPress3/wp-conte
 nt/uploads/2023/06/AG-BC-Dombes.jpg
LOCATION:Salle Mont Blanc\, Impasse du Mont Blanc\, Saint-André-de-Corcy\,
  Auvergne-Rhône-Alpes\, 01390\, Ain\, France
GEO:45.928097;4.960256
X-APPLE-STRUCTURED-LOCATION;VALUE=URI;X-ADDRESS=Impasse du Mont Blanc\, Sai
 nt-André-de-Corcy\, Auvergne-Rhône-Alpes\, 01390\, Ain\, France;X-APPLE-
 RADIUS=100;X-TITLE=Salle Mont Blanc:geo:45.928097,4.960256
END:VEVENT
BEGIN:VTIMEZONE
TZID:Europe/Paris
X-LIC-LOCATION:Europe/Paris
BEGIN:DAYLIGHT
DTSTART:20230326T030000
TZOFFSETFROM:+0100
TZOFFSETTO:+0200
TZNAME:CEST
END:DAYLIGHT
END:VTIMEZONE
END:VCALENDAR