BEGIN:VCALENDAR
VERSION:2.0
PRODID:-//wp-events-plugin.com//7.2.3.1//EN
BEGIN:VEVENT
UID:212@saintandredecorcy.fr
DTSTART;TZID=Europe/Paris:20230326T090000
DTEND;TZID=Europe/Paris:20230326T090000
DTSTAMP:20230220T081633Z
URL:https://saintandredecorcy.fr/evenements/battle-de-breakdance/
SUMMARY:&#x1f57a\; Battle de Breakdance
DESCRIPTION:La CODance Academy organise son 1er battle de breakdance !\n26 
 mars 2023\nSalle Polyvalente\nPublic\, venez nombreux!
ATTACH;FMTTYPE=image/jpeg:https://saintandredecorcy.fr/WordPress3/wp-conte
 nt/uploads/2023/02/Battle-Breakdance.jpg
LOCATION:Salle Polyvalente\, 329 Allée des Sports\, Saint-André-de-Corcy\
 , Auvergne-Rhône-Alpes\, 01390\, Ain\, France
GEO:45.92811;4.958096
X-APPLE-STRUCTURED-LOCATION;VALUE=URI;X-ADDRESS=329 Allée des Sports\, Sai
 nt-André-de-Corcy\, Auvergne-Rhône-Alpes\, 01390\, Ain\, France;X-APPLE-
 RADIUS=100;X-TITLE=Salle Polyvalente:geo:45.92811,4.958096
END:VEVENT
BEGIN:VTIMEZONE
TZID:Europe/Paris
X-LIC-LOCATION:Europe/Paris
BEGIN:DAYLIGHT
DTSTART:20230326T030000
TZOFFSETFROM:+0100
TZOFFSETTO:+0200
TZNAME:CEST
END:DAYLIGHT
END:VTIMEZONE
END:VCALENDAR