BEGIN:VCALENDAR
VERSION:2.0
PRODID:-//wp-events-plugin.com//7.2.3.1//EN
BEGIN:VEVENT
UID:254@saintandredecorcy.fr
DTSTART;TZID=Europe/Paris:20230528T100000
DTEND;TZID=Europe/Paris:20230528T100000
DTSTAMP:20230525T043521Z
URL:https://saintandredecorcy.fr/evenements/aubade-de-lunion-musicale-chat
 illon-sur-chalaronne/
SUMMARY:&#x1f3ba\; Aubade de l'Union Musicale Châtillon-Sur-Chalaronne
DESCRIPTION:L'Union Musicale Châtillon-Sur-Chalaronne jouera une aubade po
 ur célébrer le départ de son chef François Rousselot.
ATTACH;FMTTYPE=image/jpeg:https://saintandredecorcy.fr/WordPress3/wp-conte
 nt/uploads/2023/05/Union-musicale.jpg
LOCATION:Place Pierre Bernard\, Place Pierre Bernard\, Saint-André-de-Corc
 y\, Auvergne-Rhône-Alpes\, 01390\, Ain\, France
GEO:45.92784;4.953914
X-APPLE-STRUCTURED-LOCATION;VALUE=URI;X-ADDRESS=Place Pierre Bernard\, Sain
 t-André-de-Corcy\, Auvergne-Rhône-Alpes\, 01390\, Ain\, France;X-APPLE-R
 ADIUS=100;X-TITLE=Place Pierre Bernard:geo:45.92784,4.953914
END:VEVENT
BEGIN:VTIMEZONE
TZID:Europe/Paris
X-LIC-LOCATION:Europe/Paris
BEGIN:DAYLIGHT
DTSTART:20230326T030000
TZOFFSETFROM:+0100
TZOFFSETTO:+0200
TZNAME:CEST
END:DAYLIGHT
END:VTIMEZONE
END:VCALENDAR