BEGIN:VCALENDAR
VERSION:2.0
PRODID:-//wp-events-plugin.com//7.2.3.1//EN
BEGIN:VEVENT
UID:224@saintandredecorcy.fr
DTSTART;TZID=Europe/Paris:20230318T140000
DTEND;TZID=Europe/Paris:20230318T140000
DTSTAMP:20230316T094019Z
URL:https://saintandredecorcy.fr/evenements/atelier-de-fabrication-de-nids
 -a-hirondelles/
SUMMARY:&#x1f6e0\;&#xfe0f\; Atelier de fabrication de nids à hirondelles
DESCRIPTION:Ce samedi 18 mars à partir de 14h\, venez fabriquer de vos mai
 ns des nids à hirondelles de fenêtres.\n\nVotre action favorisera le mai
 ntien des hirondelles dans notre village.\n\nContactez Christophe de l'ass
 ociation La Guifette au 06 22 17 39 67\n\nlaguifette.org
ATTACH;FMTTYPE=image/jpeg:https://saintandredecorcy.fr/WordPress3/wp-conte
 nt/uploads/2023/03/nichoirs.jpg
LOCATION:Atelier 208\, 167 All. des Sports\, Saint-André-de-Corcy\, Auverg
 ne-Rhône-Alpes\, 01390\, Ain\, France
GEO:45.92884;4.957222
X-APPLE-STRUCTURED-LOCATION;VALUE=URI;X-ADDRESS=167 All. des Sports\, Saint
 -André-de-Corcy\, Auvergne-Rhône-Alpes\, 01390\, Ain\, France;X-APPLE-RA
 DIUS=100;X-TITLE=Atelier 208:geo:45.92884,4.957222
END:VEVENT
BEGIN:VTIMEZONE
TZID:Europe/Paris
X-LIC-LOCATION:Europe/Paris
BEGIN:STANDARD
DTSTART:20221030T020000
TZOFFSETFROM:+0200
TZOFFSETTO:+0100
TZNAME:CET
END:STANDARD
END:VTIMEZONE
END:VCALENDAR