BEGIN:VCALENDAR
VERSION:2.0
PRODID:-//wp-events-plugin.com//7.2.3.1//EN
BEGIN:VEVENT
UID:429@saintandredecorcy.fr
DTSTART;TZID=Europe/Paris:20250523T203000
DTEND;TZID=Europe/Paris:20250523T203000
DTSTAMP:20240829T081043Z
URL:https://saintandredecorcy.fr/evenements/atelier-208-culture-un-petit-j
 eu-sans-consequence/
SUMMARY:&#x2666\;&#xfe0f\; Atelier 208 Culture : UN PETIT JEU SANS CONSÉQU
 ENCE
DESCRIPTION:COMÉDIE - TOUT PUBLIC\nPar la troupe de Berlimbimbroque\n\nUn 
 petit jeu sans conséquence raconte l'histoire de quatre amis de toujours:
  un couple (François et Claire) et leurs deux confidents et amis\, étern
 els célibataires (Axelle et Patrick).\nL'équilibre de ce quatuor va êtr
 e perturbé par l'arrivée d'une connaissance de l'un d'eux :\nSerge. L'es
 pace d'une journée\, comme dans les comédies de Marivaux\, ces cinq pers
 onnages se croisent\, se révèlent\, se confident\, s'épanchent\, se par
 lent d'amour et de fidélité. Et cette journée change tout.\n\nDurée : 
 1h30 - Comédie\n\nRéservation : https://www.helloasso.com/associations/a
 telier-208-culture/evenements/un-petit-jeu-sans-consequence
ATTACH;FMTTYPE=image/jpeg:https://saintandredecorcy.fr/WordPress3/wp-conte
 nt/uploads/2024/08/2025-05-23-UN-PETIT-JEU-SANS-CONSEQUENCE.jpg
LOCATION:Atelier 208\, 167 All. des Sports\, Saint-André-de-Corcy\, Auverg
 ne-Rhône-Alpes\, 01390\, Ain\, France
GEO:45.92884;4.957222
X-APPLE-STRUCTURED-LOCATION;VALUE=URI;X-ADDRESS=167 All. des Sports\, Saint
 -André-de-Corcy\, Auvergne-Rhône-Alpes\, 01390\, Ain\, France;X-APPLE-RA
 DIUS=100;X-TITLE=Atelier 208:geo:45.92884,4.957222
END:VEVENT
BEGIN:VTIMEZONE
TZID:Europe/Paris
X-LIC-LOCATION:Europe/Paris
BEGIN:DAYLIGHT
DTSTART:20250330T030000
TZOFFSETFROM:+0100
TZOFFSETTO:+0200
TZNAME:CEST
END:DAYLIGHT
END:VTIMEZONE
END:VCALENDAR