BEGIN:VCALENDAR
VERSION:2.0
PRODID:-//wp-events-plugin.com//7.2.3.1//EN
BEGIN:VEVENT
UID:6@saintandredecorcy.fr
DTSTART;TZID=Europe/Paris:20211015T203000
DTEND;TZID=Europe/Paris:20211015T223000
DTSTAMP:20211007T043249Z
URL:https://saintandredecorcy.fr/evenements/atelier-208-culture-tagadatsin
 g/
SUMMARY:Atelier 208 Culture : TAGADATSING
DESCRIPTION:TAGADATSING quartet vocal parodique\nQuatre voix a capella vous
  emmènent dans un spectacle musical parodique\, à la mise en scène plei
 ne d'humour !\nSite internet
LOCATION:Atelier 208\, 167 All. des Sports\, Saint-André-de-Corcy\, Auverg
 ne-Rhône-Alpes\, 01390\, Ain\, France
GEO:45.92884;4.957222
X-APPLE-STRUCTURED-LOCATION;VALUE=URI;X-ADDRESS=167 All. des Sports\, Saint
 -André-de-Corcy\, Auvergne-Rhône-Alpes\, 01390\, Ain\, France;X-APPLE-RA
 DIUS=100;X-TITLE=Atelier 208:geo:45.92884,4.957222
END:VEVENT
BEGIN:VTIMEZONE
TZID:Europe/Paris
X-LIC-LOCATION:Europe/Paris
BEGIN:DAYLIGHT
DTSTART:20210328T030000
TZOFFSETFROM:+0100
TZOFFSETTO:+0200
TZNAME:CEST
END:DAYLIGHT
END:VTIMEZONE
END:VCALENDAR