BEGIN:VCALENDAR
VERSION:2.0
PRODID:-//wp-events-plugin.com//7.2.3.1//EN
BEGIN:VEVENT
UID:421@saintandredecorcy.fr
DTSTART;TZID=Europe/Paris:20241013T153000
DTEND;TZID=Europe/Paris:20241013T153000
DTSTAMP:20240827T172107Z
URL:https://saintandredecorcy.fr/evenements/atelier-208-culture-french-coi
 n-coin/
SUMMARY:&#x1f986\; Atelier 208 Culture : FRENCH COIN COIN
DESCRIPTION:JEUNE PUBLIC\nCompagnie la Panthère Noire\n\n“Approchez\, ap
 prochez … Du jamais vu : un cirque avec des Canards !\n\nDébut en Fanfa
 re avec Georges et Henriette. Ce sont les seuls dresseurs de palmipèdes a
 u monde\, et ils en sont fiers comme des coqs en pâte. Leur meilleur athl
 ète\, Monsieur K\, est un artiste de très haut vol. Prouesses acrobatiqu
 es\, magie et autres illusions de basse basse-cour vont vous éblouir. Vou
 s frémirez devant le grand final\, les Flammes de l Enfer.&nbsp\; Tout es
 t prêt. Mais un intrus s est invité au spectacle : Gugus. Il ne sait fai
 re qu une seule chose : apparaître au mauvais moment. De déséquilibres 
 en pirouettes\, nous découvrirons que les canards boiteux ont aussi leur 
 génie\; et peuvent\, au final\, nous clouer le bec."\n\nDurée : 45min\nS
 pectacle familial\, à partir de 3 ans\n\nRéservation : https://www.hello
 asso.com/associations/atelier-208-culture/evenements/french-coin-coin
ATTACH;FMTTYPE=image/jpeg:https://saintandredecorcy.fr/WordPress3/wp-conte
 nt/uploads/2024/08/2024-10-13-FRENCH-COIN-COIN.jpg
LOCATION:Atelier 208\, 167 All. des Sports\, Saint-André-de-Corcy\, Auverg
 ne-Rhône-Alpes\, 01390\, Ain\, France
GEO:45.92884;4.957222
X-APPLE-STRUCTURED-LOCATION;VALUE=URI;X-ADDRESS=167 All. des Sports\, Saint
 -André-de-Corcy\, Auvergne-Rhône-Alpes\, 01390\, Ain\, France;X-APPLE-RA
 DIUS=100;X-TITLE=Atelier 208:geo:45.92884,4.957222
END:VEVENT
BEGIN:VTIMEZONE
TZID:Europe/Paris
X-LIC-LOCATION:Europe/Paris
BEGIN:DAYLIGHT
DTSTART:20240331T030000
TZOFFSETFROM:+0100
TZOFFSETTO:+0200
TZNAME:CEST
END:DAYLIGHT
END:VTIMEZONE
END:VCALENDAR