BEGIN:VCALENDAR
VERSION:2.0
PRODID:-//wp-events-plugin.com//7.2.3.1//EN
BEGIN:VEVENT
UID:300@saintandredecorcy.fr
DTSTART;TZID=Europe/Paris:20231107T200000
DTEND;TZID=Europe/Paris:20231107T200000
DTSTAMP:20231016T105614Z
URL:https://saintandredecorcy.fr/evenements/assemblee-generale-ecole-de-mu
 sique/
SUMMARY:&#x1f3bc\; Assemblée générale École de Musique
DESCRIPTION:Lors de cette AG sera traité le renouvellement impératif du B
 ureau actuellement en sous-effectif.\n\nSi d'ici la date de l'AG nous ne c
 omptons pas de nouveaux membres\, nous serons malheureusement obligés de 
 voter la dissolution de l'association et donc la fermeture de l'école.\n\
 nAinsi si vous souhaitez rejoindre le bureau de l'EMSAC\, n'hésitez pas 
 à vous manifester auprès des membres du bureau ou par mail à administra
 tion@emsac.fr\n\nVenez nombreux &#x1f609\;
ATTACH;FMTTYPE=image/jpeg:https://saintandredecorcy.fr/WordPress3/wp-conte
 nt/uploads/2023/10/EMSAC-AG.jpg
LOCATION:École de Musique\, 65 Place Victor Hugo\, Saint-André-de-Corcy\,
  Auvergne-Rhône-Alpes\, 01390\, Ain\, France
GEO:45.928333;4.952538
X-APPLE-STRUCTURED-LOCATION;VALUE=URI;X-ADDRESS=65 Place Victor Hugo\, Sain
 t-André-de-Corcy\, Auvergne-Rhône-Alpes\, 01390\, Ain\, France;X-APPLE-R
 ADIUS=100;X-TITLE=École de Musique:geo:45.928333,4.952538
END:VEVENT
BEGIN:VTIMEZONE
TZID:Europe/Paris
X-LIC-LOCATION:Europe/Paris
BEGIN:STANDARD
DTSTART:20231029T020000
TZOFFSETFROM:+0200
TZOFFSETTO:+0100
TZNAME:CET
END:STANDARD
END:VTIMEZONE
END:VCALENDAR