BEGIN:VCALENDAR
VERSION:2.0
PRODID:-//wp-events-plugin.com//7.2.3.1//EN
BEGIN:VEVENT
UID:3@saintandredecorcy.fr
DTSTART:20211006T203000Z
DTEND:20211006T223000Z
DTSTAMP:20211006T043634Z
URL:https://saintandredecorcy.fr/evenements/assemblee-generale-alej-sou-de
 s-ecoles/
SUMMARY:Assemblée Générale ALEJ - Sou des Écoles
DESCRIPTION:
LOCATION:Mairie\, Square Claudius Bardet\, Saint-André-de-Corcy\, Région 
 Rhône-Alpes\, 01390\, Ain\, France
GEO:45.92817;4.953139
X-APPLE-STRUCTURED-LOCATION;VALUE=URI;X-ADDRESS=Square Claudius Bardet\, Sa
 int-André-de-Corcy\, Région Rhône-Alpes\, 01390\, Ain\, France;X-APPLE-
 RADIUS=100;X-TITLE=Mairie:geo:45.92817,4.953139
END:VEVENT
END:VCALENDAR