BEGIN:VCALENDAR
VERSION:2.0
PRODID:-//wp-events-plugin.com//7.2.3.1//EN
BEGIN:VEVENT
UID:72@saintandredecorcy.fr
DTSTART;TZID=Europe/Paris:20220312T144500
DTEND;TZID=Europe/Paris:20220312T144500
DTSTAMP:20220219T064337Z
URL:https://saintandredecorcy.fr/evenements/alej-carnaval/
SUMMARY:ALEJ : Carnaval
DESCRIPTION:L'Alej Sou des écoles&nbsp\;organise son CARNAVAL samedi 12 ma
 rs à 14h45\nRassemblement devant ECLAT\nÀ cette occasion\, le stationnem
 ent sera interdit sur le parking de l'Atelier 208 de 12h00 à 19h00\n
LOCATION:Centre social ECLAT\, 290 All. des Sports\, Saint-André-de-Corcy\
 , Auvergne-Rhône-Alpes\, 01390\, Ain\, France
GEO:45.928248;4.958876
X-APPLE-STRUCTURED-LOCATION;VALUE=URI;X-ADDRESS=290 All. des Sports\, Saint
 -André-de-Corcy\, Auvergne-Rhône-Alpes\, 01390\, Ain\, France;X-APPLE-RA
 DIUS=100;X-TITLE=Centre social ECLAT:geo:45.928248,4.958876
END:VEVENT
BEGIN:VTIMEZONE
TZID:Europe/Paris
X-LIC-LOCATION:Europe/Paris
BEGIN:STANDARD
DTSTART:20211031T020000
TZOFFSETFROM:+0200
TZOFFSETTO:+0100
TZNAME:CET
END:STANDARD
END:VTIMEZONE
END:VCALENDAR