BEGIN:VCALENDAR
VERSION:2.0
PRODID:-//wp-events-plugin.com//7.2.3.1//EN
BEGIN:VEVENT
UID:60@saintandredecorcy.fr
DTSTART;TZID=Europe/Paris:20220127T173000
DTEND;TZID=Europe/Paris:20220129T190000
DTSTAMP:20220125T191926Z
URL:https://saintandredecorcy.fr/evenements/afterwork-a-laromeraie-%f0%9f%
 98%8b/
SUMMARY:Afterwork à l'Arômeraie &#x1f60b\;
DESCRIPTION:\nVenez découvrir les accords autour du chocolat!\n\n\nJanvier
  2022\n\nJeudi 27 = accords découverte crémeux au chocolat sur mini crê
 pes avec cidre.  Afterwork adulte de 17h30 à 19h00\n\nSamedi 29 = dégus
 tation crémeux à tartiner sur mini crêpes\, de 14h00 à 17h30\n\nFévr
 ier 2022\n\nJeudi 3 = accords découverte thés et chocolats autour de 
 la collection Saint-Valentin\n\nAfterwork adulte de 17h30 à 19h00\n\nAfte
 rworks gratuits\, inscription recommandée afin de valider sa place\n\nM
 asque obligatoire &#x1f637\;   Pass sanitaire\n\nL’ARÔMERAIE\n\n34 r
 ue de Fléchet\n\n01390 SAINT-ANDRE-DE-CORCY\n\nRenseignements\, réservat
 ions et inscriptions :\n\npar téléphone : 04 72 26 47 37\n\npar mail : 
 reservation@richart.com\n\n
END:VEVENT
BEGIN:VTIMEZONE
TZID:Europe/Paris
X-LIC-LOCATION:Europe/Paris
BEGIN:STANDARD
DTSTART:20211031T020000
TZOFFSETFROM:+0200
TZOFFSETTO:+0100
TZNAME:CET
END:STANDARD
END:VTIMEZONE
END:VCALENDAR