BEGIN:VCALENDAR
VERSION:2.0
PRODID:-//wp-events-plugin.com//7.2.3.1//EN
BEGIN:VEVENT
UID:66@saintandredecorcy.fr
DTSTART;TZID=Europe/Paris:20220324T173000
DTEND;TZID=Europe/Paris:20220324T190000
DTSTAMP:20220125T202120Z
URL:https://saintandredecorcy.fr/evenements/afterwork-a-laromeraie-%f0%9f%
 98%8b-2/
SUMMARY:Afterwork à l'Arômeraie &#x1f60b\;
DESCRIPTION:Venez découvrir les accords autour du chocolat!\n\nJeudi 24 ma
 rs 2022\, Afterwork adulte de 17h30 à 19h00\n\nLa nouvelle collection de
  chocolats de Pâques se dévoile\n\ngratuit\, inscription recommandée 
 afin de valider sa place\n\nMasque obligatoire &#x1f637\;\n\nPass sanitai
 re\n\nL’ARÔMERAIE\n\n34 rue de Fléchet\n\n01390 SAINT-ANDRE-DE-CORCY\n
 \nRenseignements\, réservations et inscriptions :\n\npar téléphone : 04
  72 26 47 37\n\npar mail : reservation@richart.com
END:VEVENT
BEGIN:VTIMEZONE
TZID:Europe/Paris
X-LIC-LOCATION:Europe/Paris
BEGIN:STANDARD
DTSTART:20211031T020000
TZOFFSETFROM:+0200
TZOFFSETTO:+0100
TZNAME:CET
END:STANDARD
END:VTIMEZONE
END:VCALENDAR