BEGIN:VCALENDAR
VERSION:2.0
PRODID:-//wp-events-plugin.com//7.2.3.1//EN
BEGIN:VEVENT
UID:292@saintandredecorcy.fr
DTSTART;TZID=Europe/Paris:20231011T160000
DTEND;TZID=Europe/Paris:20231011T190000
DTSTAMP:20230919T185749Z
URL:https://saintandredecorcy.fr/evenements/%f0%9f%a9%b8-don-de-sang/
SUMMARY:&#x1fa78\; Don de sang
DESCRIPTION:Prenez rendez-vous sur : https://dondesang.efs.sante.fr/trouver
 -une-collecte/87838/sang
ATTACH;FMTTYPE=image/jpeg:https://saintandredecorcy.fr/WordPress3/wp-conte
 nt/uploads/2023/09/8244072176509b1f349f2a9.11986441-1695134195.jpg
LOCATION:Salle Polyvalente\, 329 Allée des Sports\, Saint-André-de-Corcy\
 , Auvergne-Rhône-Alpes\, 01390\, Ain\, France
GEO:45.92811;4.958096
X-APPLE-STRUCTURED-LOCATION;VALUE=URI;X-ADDRESS=329 Allée des Sports\, Sai
 nt-André-de-Corcy\, Auvergne-Rhône-Alpes\, 01390\, Ain\, France;X-APPLE-
 RADIUS=100;X-TITLE=Salle Polyvalente:geo:45.92811,4.958096
END:VEVENT
BEGIN:VTIMEZONE
TZID:Europe/Paris
X-LIC-LOCATION:Europe/Paris
BEGIN:DAYLIGHT
DTSTART:20230326T030000
TZOFFSETFROM:+0100
TZOFFSETTO:+0200
TZNAME:CEST
END:DAYLIGHT
END:VTIMEZONE
END:VCALENDAR