BEGIN:VCALENDAR
VERSION:2.0
PRODID:-//wp-events-plugin.com//7.2.3.1//EN
BEGIN:VEVENT
UID:693@saintandredecorcy.fr
DTSTART;TZID=Europe/Paris:20260530T100000
DTEND;TZID=Europe/Paris:20260530T170000
DTSTAMP:20260403T101626Z
URL:https://saintandredecorcy.fr/evenements/%f0%9f%9a%92-portes-ouvertes-c
 aserne-des-pompiers-%f0%9f%9a%92/
SUMMARY:🚒 PORTES OUVERTES – CASERNE DES POMPIERS 🚒
DESCRIPTION:La caserne des pompiers de Saint-André-de-Corcy vous ouvre ses
  portes !\n\n📅&nbsp\;Samedi 30 mai 2026\n\n🕙&nbsp\;De 10h à 17h\n\n
 Au programme :\n\n👉 Stands de recrutement\n\n👉 Initiation au massage
  cardiaque\n\n👉 Manœuvres des JSP (Jeunes Sapeurs-Pompiers)\n\nVenez d
 écouvrir les métiers de sapeur-pompier\, le matériel d’intervention e
 t échanger avec les équipes 🚨\n\n👉 Une journée conviviale et ouve
 rte à tous !
ATTACH;FMTTYPE=image/jpeg:https://saintandredecorcy.fr/WordPress3/wp-conte
 nt/uploads/2026/04/PO-pompiers.jpeg
LOCATION:Centre d'incendie et de secours (pompiers)\, 795 rue de l'Industri
 e\, Saint-André-de-Corcy\, Ain\, 01390\, Auvergne Rhône-Alpes\, France
GEO:45.935064;4.96064
X-APPLE-STRUCTURED-LOCATION;VALUE=URI;X-ADDRESS=795 rue de l'Industrie\, Sa
 int-André-de-Corcy\, Ain\, 01390\, Auvergne Rhône-Alpes\, France;X-APPLE
 -RADIUS=100;X-TITLE=Centre d'incendie et de secours (pompiers):geo:45.9350
 64,4.96064
END:VEVENT
BEGIN:VTIMEZONE
TZID:Europe/Paris
X-LIC-LOCATION:Europe/Paris
BEGIN:DAYLIGHT
DTSTART:20260329T030000
TZOFFSETFROM:+0100
TZOFFSETTO:+0200
TZNAME:CEST
END:DAYLIGHT
END:VTIMEZONE
END:VCALENDAR