BEGIN:VCALENDAR
VERSION:2.0
PRODID:-//wp-events-plugin.com//7.2.3.1//EN
BEGIN:VEVENT
UID:130@saintandredecorcy.fr
DTSTART;TZID=Europe/Paris:20220611T090000
DTEND;TZID=Europe/Paris:20220611T160000
DTSTAMP:20220520T065933Z
URL:https://saintandredecorcy.fr/evenements/%f0%9f%8e%b8-journee-portes-ou
 vertes-emsac/
SUMMARY:&#x1f3b8\; Journée portes ouvertes EMSAC
DESCRIPTION:
LOCATION:École de Musique\, 65 Place Victor Hugo\, Saint-André-de-Corcy\,
  Auvergne-Rhône-Alpes\, 01390\, Ain\, France
GEO:45.928333;4.952538
X-APPLE-STRUCTURED-LOCATION;VALUE=URI;X-ADDRESS=65 Place Victor Hugo\, Sain
 t-André-de-Corcy\, Auvergne-Rhône-Alpes\, 01390\, Ain\, France;X-APPLE-R
 ADIUS=100;X-TITLE=École de Musique:geo:45.928333,4.952538
END:VEVENT
BEGIN:VTIMEZONE
TZID:Europe/Paris
X-LIC-LOCATION:Europe/Paris
BEGIN:DAYLIGHT
DTSTART:20220327T030000
TZOFFSETFROM:+0100
TZOFFSETTO:+0200
TZNAME:CEST
END:DAYLIGHT
END:VTIMEZONE
END:VCALENDAR