BEGIN:VCALENDAR
VERSION:2.0
PRODID:-//wp-events-plugin.com//7.2.3.1//EN
BEGIN:VEVENT
UID:698@saintandredecorcy.fr
DTSTART;TZID=Europe/Paris:20260514T100000
DTEND;TZID=Europe/Paris:20260516T170000
DTSTAMP:20260421T124405Z
URL:https://saintandredecorcy.fr/evenements/%f0%9f%8e%ad-festival-national
 -de-theatre-contemporain-amateur-de-la-dombes/
SUMMARY:🎭 Festival National de Théâtre Contemporain Amateur de la Domb
 es
DESCRIPTION:Le&nbsp\;14&nbsp\;et&nbsp\;16&nbsp\;mai&nbsp\;2026\,&nbsp\;la&n
 bsp\;commune&nbsp\;accueille&nbsp\;le&nbsp\;38ᵉ&nbsp\;Festival&nbsp\;Nat
 ional&nbsp\;de&nbsp\;Théâtre&nbsp\;Contemporain&nbsp\;Amateur&nbsp\;de&n
 bsp\;La&nbsp\;Dombes&nbsp\;🎉\n\n&nbsp\;\n\nPlusieurs&nbsp\;rendez-vous&
 nbsp\;sur&nbsp\;la&nbsp\;commune&nbsp\;:\n\n📅&nbsp\;Jeudi&nbsp\;14&nbsp
 \;mai&nbsp\;2026\n\n&nbsp\;\n\n🕙&nbsp\;10h00&nbsp\;–&nbsp\;Atelier&nb
 sp\;208&nbsp\;-&nbsp\;(payant)\n\n&nbsp\;Pyramide&nbsp\;–&nbsp\;Copi&nbs
 p\;(Théâtre&nbsp\;du&nbsp\;Sol&nbsp\;–&nbsp\;69)\n\n🕛&nbsp\;12h00&n
 bsp\;–&nbsp\;Mairie&nbsp\;(salle&nbsp\;du&nbsp\;conseil)\n\n&nbsp\;Le&nb
 sp\;long&nbsp\;chemin&nbsp\;du&nbsp\;retour&nbsp\;–&nbsp\;Daniel&nbsp\;K
 eene\n\n&nbsp\;Lecture&nbsp\;(texte&nbsp\;remarqué&nbsp\;JLAAT&nbsp\;2025
 )\n\n🕝&nbsp\;14h30&nbsp\;–&nbsp\;Mairie&nbsp\;(salle&nbsp\;du&nbsp\;c
 onseil)\n\n&nbsp\;Tous&nbsp\;coupable&nbsp\;sauf&nbsp\;Thermos&nbsp\;Grön
 n&nbsp\;–&nbsp\;Romane&nbsp\;Nicolas\n\n&nbsp\;Lecture&nbsp\;(texte&nbsp
 \;remarqué&nbsp\;JLAAT&nbsp\;2025)\n\n🕞&nbsp\;15h30&nbsp\;–&nbsp\;Ma
 irie&nbsp\;(salle&nbsp\;du&nbsp\;conseil)\n\n&nbsp\;Rencontres&nbsp\;&amp\
 ;&nbsp\;dédicaces\n\n🕓&nbsp\;16h00&nbsp\;–&nbsp\;Atelier&nbsp\;208&n
 bsp\;-&nbsp\;(payant)\n\n&nbsp\;Love&nbsp\;&amp\;&nbsp\;Money&nbsp\;–&nb
 sp\;Dennis&nbsp\;Kelly&nbsp\;(Cie&nbsp\;Les&nbsp\;Poly&nbsp\;Amours&nbsp\;
 –&nbsp\;75)\n\n&nbsp\;\n\n📅&nbsp\;Samedi&nbsp\;16&nbsp\;mai&nbsp\;202
 6\n\n&nbsp\;\n\n🕝&nbsp\;14h30&nbsp\;–&nbsp\;Atelier&nbsp\;208&nbsp\;-
 &nbsp\;(payant)\n\n&nbsp\;Stabat&nbsp\;Mater&nbsp\;Furiosa&nbsp\;–&nbsp\
 ;Jean-Pierre&nbsp\;Siméon\n\n&nbsp\;(Atelier&nbsp\;Acte&nbsp\;II&nbsp\;
 –&nbsp\;60)\n\n&nbsp\;\n\n🎟️&nbsp\;Venez&nbsp\;nombreux&nbsp\;déco
 uvrir&nbsp\;ces&nbsp\;spectacles&nbsp\;!\n\n&nbsp\;\n\n👉&nbsp\;Plus&nbs
 p\;d’infos&nbsp\;:&nbsp\;www.tced01.com\n\n&nbsp\;
ATTACH;FMTTYPE=image/jpeg:https://saintandredecorcy.fr/WordPress3/wp-conte
 nt/uploads/2026/04/TCED26-Affiche-V4.jpg
LOCATION:Atelier 208\, 167 All. des Sports\, Saint-André-de-Corcy\, Auverg
 ne-Rhône-Alpes\, 01390\, Ain\, France
GEO:45.92884;4.957222
X-APPLE-STRUCTURED-LOCATION;VALUE=URI;X-ADDRESS=167 All. des Sports\, Saint
 -André-de-Corcy\, Auvergne-Rhône-Alpes\, 01390\, Ain\, France;X-APPLE-RA
 DIUS=100;X-TITLE=Atelier 208:geo:45.92884,4.957222
END:VEVENT
BEGIN:VTIMEZONE
TZID:Europe/Paris
X-LIC-LOCATION:Europe/Paris
BEGIN:DAYLIGHT
DTSTART:20260329T030000
TZOFFSETFROM:+0100
TZOFFSETTO:+0200
TZNAME:CEST
END:DAYLIGHT
END:VTIMEZONE
END:VCALENDAR