BEGIN:VCALENDAR
VERSION:2.0
PRODID:-//wp-events-plugin.com//7.2.3.1//EN
BEGIN:VEVENT
UID:615@saintandredecorcy.fr
DTSTART;TZID=Europe/Paris:20250906T090000
DTEND;TZID=Europe/Paris:20250906T180000
DTSTAMP:20250902T101708Z
URL:https://saintandredecorcy.fr/evenements/%f0%9f%8e%a9-classe-en-6-vente
 -de-brioches/
SUMMARY:🎩 Classe en 6 : vente de brioches
DESCRIPTION:La traditionnelle vente de brioches en porte-à-porte aura lieu
  dans le village le samedi 6 septembre.\n\nLes membres de la Classe en 6 p
 asseront chez vous pour vous proposer de délicieuses brioches.\n\nVous no
 us retrouverez également au forum des associations et dimanche matin sur 
 le marché!\n\nMerci d’avance pour votre accueil et votre soutien à cet
 te belle tradition !&nbsp\;
ATTACH;FMTTYPE=image/jpeg:https://saintandredecorcy.fr/WordPress3/wp-conte
 nt/uploads/2022/04/Classes-gibus.png
LOCATION:Salle Polyvalente\, 329 Allée des Sports\, Saint-André-de-Corcy\
 , Auvergne-Rhône-Alpes\, 01390\, Ain\, France
GEO:45.92811;4.958096
X-APPLE-STRUCTURED-LOCATION;VALUE=URI;X-ADDRESS=329 Allée des Sports\, Sai
 nt-André-de-Corcy\, Auvergne-Rhône-Alpes\, 01390\, Ain\, France;X-APPLE-
 RADIUS=100;X-TITLE=Salle Polyvalente:geo:45.92811,4.958096
END:VEVENT
BEGIN:VTIMEZONE
TZID:Europe/Paris
X-LIC-LOCATION:Europe/Paris
BEGIN:DAYLIGHT
DTSTART:20250330T030000
TZOFFSETFROM:+0100
TZOFFSETTO:+0200
TZNAME:CEST
END:DAYLIGHT
END:VTIMEZONE
END:VCALENDAR