BEGIN:VCALENDAR
VERSION:2.0
PRODID:-//wp-events-plugin.com//7.2.3.1//EN
BEGIN:VEVENT
UID:699@saintandredecorcy.fr
DTSTART;TZID=Europe/Paris:20260519T180000
DTEND;TZID=Europe/Paris:20260519T190000
DTSTAMP:20260424T103349Z
URL:https://saintandredecorcy.fr/evenements/%f0%9f%8e%9f%ef%b8%8f-tombola-
 de-lalej/
SUMMARY:🎟️ Tombola de l'ALEJ
DESCRIPTION:🎟️&nbsp\;Tombola&nbsp\;–&nbsp\;Mardi&nbsp\;19&nbsp\;mai&
 nbsp\;2026\n\nL’Alej&nbsp\;des&nbsp\;écoles&nbsp\;organise&nbsp\;une&nb
 sp\;tombola&nbsp\;avec&nbsp\;de&nbsp\;nombreux&nbsp\;lots&nbsp\;à&nbsp\;g
 agner&nbsp\;!\n\n🕕&nbsp\;Tirage&nbsp\;au&nbsp\;sort&nbsp\;à&nbsp\;18h0
 0\n\n&nbsp\;📍&nbsp\;Sous&nbsp\;la&nbsp\;halle&nbsp\;Pierre&nbsp\;BERNAR
 D&nbsp\;(devant&nbsp\;l’école&nbsp\;élémentaire)\n\n🎁&nbsp\;À&nbs
 p\;gagner&nbsp\;:\n\n1&nbsp\;nuit&nbsp\;en&nbsp\;cabane&nbsp\;perchée&nbs
 p\;pour&nbsp\;4&nbsp\;personnes\n\n4&nbsp\;entrées&nbsp\;au&nbsp\;parc&nb
 sp\;Walibi&nbsp\;Rhône-Alpes\n\n1&nbsp\;conteuse&nbsp\;Mon&nbsp\;Petit&nb
 sp\;Morphée\n\n1&nbsp\;machine&nbsp\;à&nbsp\;glace&nbsp\;Ninja\n\nEt&nbs
 p\;de&nbsp\;nombreux&nbsp\;autres&nbsp\;lots&nbsp\;offerts&nbsp\;par&nbsp\
 ;les&nbsp\;commerçants&nbsp\;et&nbsp\;des&nbsp\;environs\n\n💶&nbsp\;Ti
 cket&nbsp\;:&nbsp\;1&nbsp\;€\n\n👉&nbsp\;Des&nbsp\;tickets&nbsp\;suppl
 émentaires&nbsp\;sont&nbsp\;disponibles&nbsp\;sur&nbsp\;demande&nbsp\;par
 &nbsp\;mail&nbsp\;:&nbsp\;alejsoudecoles@gmail.com
ATTACH;FMTTYPE=image/jpeg:https://saintandredecorcy.fr/WordPress3/wp-conte
 nt/uploads/2026/04/Tombola-2026-pdf.jpg
LOCATION:Halle Pierre Bernard\, Place Pierre Bernard\, Saint-André-de-Corc
 y\, Auvergne-Rhône-Alpes\, 01390\, Ain\, France
GEO:45.92806;4.954247
X-APPLE-STRUCTURED-LOCATION;VALUE=URI;X-ADDRESS=Place Pierre Bernard\, Sain
 t-André-de-Corcy\, Auvergne-Rhône-Alpes\, 01390\, Ain\, France;X-APPLE-R
 ADIUS=100;X-TITLE=Halle Pierre Bernard:geo:45.92806,4.954247
END:VEVENT
BEGIN:VTIMEZONE
TZID:Europe/Paris
X-LIC-LOCATION:Europe/Paris
BEGIN:DAYLIGHT
DTSTART:20260329T030000
TZOFFSETFROM:+0100
TZOFFSETTO:+0200
TZNAME:CEST
END:DAYLIGHT
END:VTIMEZONE
END:VCALENDAR